BEGIN:VCALENDAR
PRODID:-//AT Content Types//AT Event//EN
VERSION:2.0
METHOD:PUBLISH
BEGIN:VEVENT
DTSTAMP:20260423T113021Z
CREATED:20200124T124156Z
UID:ATEvent-8baafdbd2b2d44bab1ccc46705b00ea6
LAST-MODIFIED:20240604T085751Z
SUMMARY:Stakeholder workshop
DTSTART:20200226T083000Z
DTEND:20200226T103000Z
DESCRIPTION:A more structured events for groups and organisations\, to
  include a presentation and Q&A session.\n\nRegistration essential: ht
 tps://www.eventbrite.co.uk/e/birmingham-transport-plan-stakeholder-eve
 nt-1-tickets-89218509965\n\nAt Council House\, Victoria Square\, Birmi
 ngham\, B1 1BB
CLASS:PUBLIC
END:VEVENT
END:VCALENDAR
