BEGIN:VCALENDAR
PRODID:-//AT Content Types//AT Event//EN
VERSION:2.0
METHOD:PUBLISH
BEGIN:VEVENT
DTSTAMP:20260423T113146Z
CREATED:20200124T124156Z
UID:ATEvent-364e8c1c43474ce4b240412c0ca5d03b
LAST-MODIFIED:20240604T085751Z
SUMMARY:Stakeholder workshop
DTSTART:20200303T130000Z
DTEND:20200303T150000Z
DESCRIPTION:A more structured events for groups and organisations\, to
  include a presentation and Q&A session.\n\nRegistration essential: ht
 tps://www.eventbrite.co.uk/e/birmingham-transport-plan-stakeholder-eve
 nt-2-tickets-89219049579\n\nAt Council House\, Victoria Square\, Birmi
 ngham\, B1 1BB
CLASS:PUBLIC
END:VEVENT
END:VCALENDAR
