BEGIN:VCALENDAR
PRODID:-//AT Content Types//AT Event//EN
VERSION:2.0
METHOD:PUBLISH
BEGIN:VEVENT
DTSTAMP:20260424T072641Z
CREATED:20190613T124548Z
UID:ATEvent-aa4b9557b4b64b0782a226ec62d2de3e
LAST-MODIFIED:20240605T143734Z
SUMMARY:Drop in event\, city centre
DTSTART:20190703T090000Z
DTEND:20190703T110000Z
DESCRIPTION:Staff will be available to discuss the strategy and answer
  any questions at the Southside Public Realm consultation event.\nBirm
 ingham Hippodrome\, Hurst Street\, B5 4TB
CLASS:PUBLIC
END:VEVENT
END:VCALENDAR
