BEGIN:VCALENDAR
PRODID:-//AT Content Types//AT Event//EN
VERSION:2.0
METHOD:PUBLISH
BEGIN:VEVENT
DTSTAMP:20260421T100942Z
CREATED:20170619T132907Z
UID:ATEvent-a3818846abc52b2ed9be089fcafb9b3f
LAST-MODIFIED:20171208T142838Z
SUMMARY:Perry Barr
DTSTART:20171214T130000Z
DTEND:20171214T140000Z
DESCRIPTION:Lime Tree Children's Centre\nHeathfield Road\nHandsworth\n
 B19 1HJ
CLASS:PUBLIC
END:VEVENT
END:VCALENDAR
