BEGIN:VCALENDAR
PRODID:-//AT Content Types//AT Event//EN
VERSION:2.0
METHOD:PUBLISH
BEGIN:VEVENT
DTSTAMP:20260421T114447Z
CREATED:20170619T132908Z
UID:ATEvent-0cb768c4dc18de6b9b0bffaee1152bf2
LAST-MODIFIED:20171208T142838Z
SUMMARY:Erdington
DTSTART:20171207T130000Z
DTEND:20171207T140000Z
DESCRIPTION:Story Wood Children's Centre\nHastings Road\nPerry Common\
 nB23 5AJ
CLASS:PUBLIC
END:VEVENT
END:VCALENDAR
