BEGIN:VCALENDAR
PRODID:-//AT Content Types//AT Event//EN
VERSION:2.0
METHOD:PUBLISH
BEGIN:VEVENT
DTSTAMP:20260421T101305Z
CREATED:20170619T132906Z
UID:ATEvent-83a67d039a1574f19d78640fc1cc6ab9
LAST-MODIFIED:20171208T142838Z
SUMMARY:Sutton Coldfield
DTSTART:20171211T133000Z
DTEND:20171211T143000Z
DESCRIPTION:New Hall Children's Centre\nLangley Hall Drive\nSutton Col
 dfield\nB75 7NQ
CLASS:PUBLIC
END:VEVENT
END:VCALENDAR
