BEGIN:VCALENDAR
PRODID:-//AT Content Types//AT Event//EN
VERSION:2.0
METHOD:PUBLISH
BEGIN:VEVENT
DTSTAMP:20260421T205224Z
CREATED:20221118T165407Z
UID:ATEvent-2cbc7f2b3a624f1cabf01c0db4d6b236
LAST-MODIFIED:20230201T104419Z
SUMMARY:Adderley Park Masterplan Community Drop In Session 3
DTSTART:20221209T090000Z
DTEND:20221209T100000Z
DESCRIPTION:In person - Adderley Park Primary School
CLASS:PUBLIC
END:VEVENT
END:VCALENDAR
