BEGIN:VCALENDAR
PRODID:-//AT Content Types//AT Event//EN
VERSION:2.0
METHOD:PUBLISH
BEGIN:VEVENT
DTSTAMP:20260421T205053Z
CREATED:20221118T165407Z
UID:ATEvent-db68a5fb05c1479a83c62a01bb833866
LAST-MODIFIED:20230201T104419Z
SUMMARY:Adderley Park Masterplan Community Drop In Session 4
DTSTART:20221220T170000Z
DTEND:20221220T180000Z
DESCRIPTION:Online - click the link attached below to join at the disp
 layed date and time
CLASS:PUBLIC
END:VEVENT
END:VCALENDAR
