BEGIN:VCALENDAR
PRODID:-//AT Content Types//AT Event//EN
VERSION:2.0
METHOD:PUBLISH
BEGIN:VEVENT
DTSTAMP:20260421T205058Z
CREATED:20221118T165407Z
UID:ATEvent-9ea886f7c9c944099051c417658f6d78
LAST-MODIFIED:20230201T104419Z
SUMMARY:Adderley Park Masterplan Community Drop in Session 5
DTSTART:20230117T170000Z
DTEND:20230117T180000Z
DESCRIPTION:Online - click the link attached below to join at the disp
 layed date and time
CLASS:PUBLIC
END:VEVENT
END:VCALENDAR
