BEGIN:VCALENDAR
PRODID:-//AT Content Types//AT Event//EN
VERSION:2.0
METHOD:PUBLISH
BEGIN:VEVENT
DTSTAMP:20260421T204910Z
CREATED:20221118T151043Z
UID:ATEvent-be6213800382452aa49a4edad8cc064e
LAST-MODIFIED:20230201T104419Z
SUMMARY:Adderley Park Masterplan Community Drop In Session 1
DTSTART:20221125T090000Z
DTEND:20221125T100000Z
DESCRIPTION:In person - Adderley Park Primary School
CLASS:PUBLIC
END:VEVENT
END:VCALENDAR
