BEGIN:VCALENDAR
PRODID:-//AT Content Types//AT Event//EN
VERSION:2.0
METHOD:PUBLISH
BEGIN:VEVENT
DTSTAMP:20260423T091511Z
CREATED:20190619T132246Z
UID:ATEvent-7ea92be05cb045c99b033798fe99363b
LAST-MODIFIED:20201210T100425Z
SUMMARY:Public consultation drop-in event
DTSTART:20190622T100000Z
DTEND:20190622T150000Z
DESCRIPTION:Studio 2\, Alexander Stadium\, Walsall Road\, B42 2LR
CLASS:PUBLIC
END:VEVENT
END:VCALENDAR
