BEGIN:VCALENDAR
PRODID:-//AT Content Types//AT Event//EN
VERSION:2.0
METHOD:PUBLISH
BEGIN:VEVENT
DTSTAMP:20260423T065906Z
CREATED:20190322T112625Z
UID:ATEvent-dca413c6567445b58ef44f481e79dc53
LAST-MODIFIED:20190329T151121Z
SUMMARY:PSPO Stand
DTSTART:20190323T110000Z
DTEND:20190323T130000Z
DESCRIPTION:A chance to talk to the Council and the Police about the p
 roposed order and see the prohibitions in full. We will be at Birmingh
 am New Street Station and on Edgbaston Street (near the Bullring Marke
 ts).
CLASS:PUBLIC
END:VEVENT
END:VCALENDAR
