BEGIN:VCALENDAR
PRODID:-//AT Content Types//AT Event//EN
VERSION:2.0
METHOD:PUBLISH
BEGIN:VEVENT
DTSTAMP:20260423T065558Z
CREATED:20190329T151118Z
UID:ATEvent-0f233a567b144ae7ad53cc7c7ad76de0
LAST-MODIFIED:20190329T151118Z
SUMMARY:PSPO Stand
DTSTART:20190427T100000Z
DTEND:20190427T120000Z
DESCRIPTION:A chance to talk to the Police about the proposed order an
 d see the prohibitions in full.  We will be on the High Street outside
  Marks and Spencer's and down in the Southside area by the Hippodrome.
 
CLASS:PUBLIC
END:VEVENT
END:VCALENDAR
