BEGIN:VCALENDAR
PRODID:-//AT Content Types//AT Event//EN
VERSION:2.0
METHOD:PUBLISH
BEGIN:VEVENT
DTSTAMP:20260423T070028Z
CREATED:20190329T151118Z
UID:ATEvent-4727f1ed404a455f9e19a7d44ea3485c
LAST-MODIFIED:20190329T151118Z
SUMMARY:PSPO Stand
DTSTART:20190410T093000Z
DTEND:20190410T103000Z
DESCRIPTION:A chance to talk to the Council and the Police about the p
 roposed order and see the prohibitions in full. We will be at the Jewe
 llery Quarter Train Station ready to answer your questions.
CLASS:PUBLIC
END:VEVENT
END:VCALENDAR
