BEGIN:VCALENDAR
PRODID:-//AT Content Types//AT Event//EN
VERSION:2.0
METHOD:PUBLISH
BEGIN:VEVENT
DTSTAMP:20260423T065356Z
CREATED:20190322T112625Z
UID:ATEvent-be2247ccc6b24543a56d4ba33d54daa8
LAST-MODIFIED:20190329T151121Z
SUMMARY:PSPO Stand
DTSTART:20190328T110000Z
DTEND:20190328T130000Z
DESCRIPTION:A chance to talk to the Council and the Police about the p
 roposed order and see the prohibitions in full. We will be in the grou
 nds of St Philips Cathedral on Colmore Row\, Birmingham.
CLASS:PUBLIC
END:VEVENT
END:VCALENDAR
