BEGIN:VCALENDAR
PRODID:-//AT Content Types//AT Event//EN
VERSION:2.0
METHOD:PUBLISH
BEGIN:VEVENT
DTSTAMP:20260419T194952Z
CREATED:20160324T140906Z
UID:ATEvent-f4451977a6ca42f6735c0911809e7d93
LAST-MODIFIED:20160420T114427Z
SUMMARY:Consultation Display - Hampstead House B31 3QY
DTSTART:20160411T110000Z
DTEND:20160423T230000Z
DESCRIPTION:Display of detailed plans.
CLASS:PUBLIC
END:VEVENT
END:VCALENDAR
