BEGIN:VCALENDAR
PRODID:-//AT Content Types//AT Event//EN
VERSION:2.0
METHOD:PUBLISH
BEGIN:VEVENT
DTSTAMP:20260419T195402Z
CREATED:20160324T140906Z
UID:ATEvent-cf1e60281b84a7bd8db18b40b2dd7e68
LAST-MODIFIED:20160420T114427Z
SUMMARY:Consultation Display - Oddingley Hall B31 3BS
DTSTART:20160411T110000Z
DTEND:20160423T230000Z
DESCRIPTION:Display of detailed plans.
CLASS:PUBLIC
END:VEVENT
END:VCALENDAR
