BEGIN:VCALENDAR
PRODID:-//AT Content Types//AT Event//EN
VERSION:2.0
METHOD:PUBLISH
BEGIN:VEVENT
DTSTAMP:20260421T235400Z
CREATED:20240408T165450Z
UID:ATEvent-5a54100387664ffb8ea330ea57859b5c
LAST-MODIFIED:20240413T163845Z
SUMMARY:Public Consultation
DTSTART:20240418T130000Z
DTEND:20240418T183000Z
DESCRIPTION:Hospitality Suite\, 2nd Floor\, West Stand\, Alexander Sta
 dium\, Walsall Road\, B42 2LR
CLASS:PUBLIC
END:VEVENT
END:VCALENDAR
